BEGIN:VCALENDAR
VERSION:2.0
PRODID:-//Intand Corporation//Tandem//EN
METHOD:PUBLISH
BEGIN:VEVENT
DTSTAMP:20260425T031116Z
DTSTART:20261205T030000Z
DTEND:20261205T060000Z
TRANSP:TRANSPARENT
PRIORITY:0
SUMMARY:Varsity Boys Basketball Game vs. Fillmore High School
LOCATION:Fillmore High School
DESCRIPTION:Groups:\nAthletic Department\nVarsity Boys Basketball\n\nSchoo
 ls:\nSanta Clarita Christian School\n\nLocation:\nFillmore High School\n\n
URL;VALUE=URI:http://school.sccs.tandem.co/index.php?type=view&action=even
 t&id=64519
CREATED:20260423T160016Z
LAST-MODIFIED:20260423T170544Z
UID:event_request-64519-sccs@intand.com
END:VEVENT
END:VCALENDAR
