BEGIN:VCALENDAR
VERSION:2.0
PRODID:-//Intand Corporation//Tandem//EN
METHOD:PUBLISH
BEGIN:VEVENT
DTSTAMP:20260420T144404Z
DTSTART:20260402T225000Z
DTEND:20260402T235000Z
TRANSP:TRANSPARENT
PRIORITY:0
SUMMARY:Junior High Girls Soccer Game (Red vs. Black)
LOCATION:Santa Clarita Soccer Center
DESCRIPTION:Groups:\nAthletic Department\nJH Girls Soccer\n\nSchools:\nSan
 ta Clarita Christian School\n\nLocation:\nSanta Clarita Soccer Center\n\n
URL;VALUE=URI:http://school.sccs.tandem.co/index.php?type=view&action=even
 t&id=63997
CREATED:20260225T173913Z
LAST-MODIFIED:20260227T161607Z
UID:event_request-63997-sccs@intand.com
END:VEVENT
END:VCALENDAR
